BEGIN:VCALENDAR
VERSION:2.0
CALSCALE:GREGORIAN
PRODID:adamgibbons/ics
METHOD:PUBLISH
X-PUBLISHED-TTL:PT1H
BEGIN:VEVENT
UID:34@tucsontimeline.info
SUMMARY:Cultivating Culture: Su:dagi\, Jewed\, Ñiok - Flooding the Land wit
	h Stories & Poems
DTSTAMP:20260423T130320Z
DTSTART:20241013T003000Z
DTEND:20241013T030000Z
DESCRIPTION:CULTIVATING CULTURE\n\n\n\n\nSU:DAGI\, JEWED\, ÑIOK - FLOODING 
	THE LAND WITH STORIES & POEMS\n\n\n\n\nAL JUKIABIG MASAD - OCTOBER 12\, 20
	24\n\n\n\n\nHOSTED BY AMY JUAN AND LOGAN PHILLIPS\n\n\n\n\nFEATURING\nMELA
	NI MARTINEZ\nSUKI WARM CLOUD FULWILDER\nAMBER LEE ORTEGA\nMUSIC BY DJQ\n\n
	\n\n5:30 PM - Food & Open Mic Signup\n6:30 - Poems and storytelling\n8:00 
	- End\nFree\, with gifts accepted for the series\n\nMission Garden\n946 W.
	 Mission Lane\, Tucson\n\nFlyer by Paul Pablo\n\nBrought to you by:\n\nMis
	sion Garden\, San Xavier Co-Op Farm\, TBOSC - Tucson Birthplace Open Space
	\nCoalition\n\n
URL:https://tucsontimeline.info/event/cultivating-culture-sudagi-jewed-niok
	-flooding-the-land-with-stories-and-poems
LOCATION:Mission Garden - 946 W. Mission Lane\, Tucson\, AZ
STATUS:CONFIRMED
CATEGORIES:Mission Garden,open mic,poetry,San Xavier Co-Op Farm,storytellin
	g,TBOSC - Tucson Birthplace Open Space Coalition
X-ALT-DESC;FMTTYPE=text/html:<h1>Cultivating Culture </h1><p></p><h2>Su:dag
	i, Jewed, Ñiok - Flooding the Land with Stories &amp; Poems </h2><p></p><h
	3>Al Jukiabig Masad - October 12, 2024</h3><p></p><h3>Hosted by Amy Juan a
	nd Logan Phillips</h3><p></p><h3>Featuring <br>Melani Martinez<br>Suki War
	m Cloud Fulwilder <br>Amber Lee Ortega<br>Music by DJQ</h3><p></p><p>5:30 
	PM - Food &amp; Open Mic Signup<br>6:30 - Poems and storytelling<br>8:00 -
	 End<br>Free, with gifts accepted for the series</p><p>Mission Garden<br>9
	46 W. Mission Lane, Tucson</p><p>Flyer by Paul Pablo</p><p>Brought to you 
	by:</p><p>Mission Garden, San Xavier Co-Op Farm, TBOSC - Tucson Birthplace
	 Open Space Coalition</p><p></p>
END:VEVENT
END:VCALENDAR
